BEGIN:VCALENDAR
VERSION:2.0
PRODID:-//Tukios.com/
BEGIN:VEVENT
UID:f68202a8-37cb-46d7-ba4e-a9085c64a4a7@www.keeneybasford.com
DTSTAMP:20260422T200236Z
DTSTART:20260426T170000Z
DTEND:20260426T200000Z
SUMMARY:Visitation
DESCRIPTION:
URL:https://www.keeneybasford.com/obituaries/cynthia-ropp
LOCATION:Keeney And Basford Funeral Homes 106 East Church Street  
	Frederick MD 21701
GEO:39.4148568;-77.408397
END:VEVENT
END:VCALENDAR