BEGIN:VCALENDAR
VERSION:2.0
PRODID:-//Tukios.com/
BEGIN:VEVENT
UID:5f4dc84e-8eb2-44dc-988c-ec35f891e2a2@www.keeneybasford.com
DTSTAMP:20260422T200057Z
DTSTART:20260427T150000Z
DTEND:20260427T160000Z
SUMMARY:Funeral Service
DESCRIPTION:
URL:https://www.keeneybasford.com/obituaries/cynthia-ropp
LOCATION:Keeney And Basford Funeral Homes 106 East Church Street  
	Frederick MD 21701
GEO:39.4148568;-77.408397
END:VEVENT
END:VCALENDAR