BEGIN:VCALENDAR
VERSION:2.0
PRODID:-//Tukios.com/
BEGIN:VEVENT
UID:005fc0ac-b946-4341-95f3-ab14a82bc8da@www.keeneybasford.com
DTSTAMP:20260419T201814Z
DTSTART:20260423T180000Z
DTEND:20260423T190000Z
SUMMARY:Funeral Service
DESCRIPTION:
URL:https://www.keeneybasford.com/obituaries/eiizabeth-clagett
LOCATION:Keeney And Basford Funeral Homes 106 East Church Street  
	Frederick MD 21701
GEO:39.4148568;-77.408397
END:VEVENT
END:VCALENDAR