BEGIN:VCALENDAR
VERSION:2.0
PRODID:-//Tukios.com/
BEGIN:VEVENT
UID:5ee84723-a967-4f27-a9e4-c21a287f43e7@www.keeneybasford.com
DTSTAMP:20260419T225702Z
DTSTART:20260423T140000Z
DTEND:20260423T150000Z
SUMMARY:Funeral Service
DESCRIPTION:
URL:https://www.keeneybasford.com/obituaries/wondimu-belete
LOCATION:Mount Olivet Cemetery 515 South Market Street  Frederick MD 
	21701
GEO:39.4001621;-77.4221414
END:VEVENT
END:VCALENDAR